BEGIN:VCALENDAR
VERSION:2.0
PRODID:-//Sabre//Sabre VObject 4.5.8//EN
CALSCALE:GREGORIAN
BEGIN:VEVENT
UID:sabre-vobject-703897c0-6b5a-45f7-89a1-9983423126ed
DTSTAMP:20260425T034034Z
SUMMARY:"Pilgern ins Herz der Stille" -  Christliche Meditation
DESCRIPTION:https://pfarreien-bistum-augsburg.df-preview.de/pilgern-ins-her
 z-der-stille-christliche-meditation_id1752994
DTSTART;TZID=Europe/Berlin:20260429T190000
DURATION:PT30M
LOCATION:St. Ulrich
END:VEVENT
END:VCALENDAR
