BEGIN:VCALENDAR
VERSION:2.0
PRODID:-//Sabre//Sabre VObject 4.5.8//EN
CALSCALE:GREGORIAN
BEGIN:VEVENT
UID:sabre-vobject-71471257-5cf3-407e-9403-a0b7e519cc21
DTSTAMP:20260423T005019Z
SUMMARY:Vorabendmesse
DESCRIPTION:https://pfarreien-bistum-augsburg.df-preview.de/vorabendmesse_i
 d1752966
DTSTART;TZID=Europe/Berlin:20260509T183000
DURATION:PT30M
LOCATION:Mariä Himmelfahrt\, Kirchplatz 8\, 82269 Walleshausen
END:VEVENT
END:VCALENDAR
