BEGIN:VCALENDAR
VERSION:2.0
PRODID:-//Sabre//Sabre VObject 4.5.8//EN
CALSCALE:GREGORIAN
BEGIN:VEVENT
UID:sabre-vobject-1e79d6b7-d93a-4149-8d5e-26c482565ce4
DTSTAMP:20260425T180549Z
SUMMARY:Beichtgelegenheit (bis 18:45 Uhr)
DESCRIPTION:https://pfarreien-bistum-augsburg.df-preview.de/beichtgelegenhe
 it-bis-18-45-uhr_id1752955
DTSTART;TZID=Europe/Berlin:20260426T181500
DURATION:PT30M
LOCATION:St. Peter
END:VEVENT
END:VCALENDAR
