BEGIN:VCALENDAR
VERSION:2.0
PRODID:-//Sabre//Sabre VObject 4.5.8//EN
CALSCALE:GREGORIAN
BEGIN:VEVENT
UID:sabre-vobject-5d9b7e67-c3df-4e07-bc2f-956802919109
DTSTAMP:20260424T224438Z
SUMMARY:Beichtgelegenheit
DESCRIPTION:https://pfarreien-bistum-augsburg.df-preview.de/beichtgelegenhe
 it_id1752944
DTSTART;TZID=Europe/Berlin:20260523T100000
DURATION:PT30M
LOCATION:Herz Mariä
END:VEVENT
END:VCALENDAR
