BEGIN:VCALENDAR
VERSION:2.0
PRODID:-//Sabre//Sabre VObject 4.5.8//EN
CALSCALE:GREGORIAN
BEGIN:VEVENT
UID:sabre-vobject-35e64334-e6c4-4219-88d0-730a5da7a763
DTSTAMP:20260425T010158Z
SUMMARY:Hl. Messe im Haus Vinzenz
DESCRIPTION:https://pfarreien-bistum-augsburg.df-preview.de/hl-messe-im-hau
 s-vinzenz_id1752939
DTSTART;TZID=Europe/Berlin:20260520T093000
DURATION:PT30M
LOCATION:Herz Mariä
END:VEVENT
END:VCALENDAR
