BEGIN:VCALENDAR
VERSION:2.0
PRODID:-//Sabre//Sabre VObject 4.5.8//EN
CALSCALE:GREGORIAN
BEGIN:VEVENT
UID:sabre-vobject-368652c4-1d9a-43d6-9beb-5412d3a6c52d
DTSTAMP:20260425T011904Z
SUMMARY:Bittgang zur Waldkapelle mit Heiliger Messe Treffpunkt 09.15 Uhr an
  der Goldbergalm
DESCRIPTION:https://pfarreien-bistum-augsburg.df-preview.de/bittgang-zur-wa
 ldkapelle-mit-heiliger-messe-treffpunkt-09-15-uhr-an-der-goldbergalm_id175
 2927
DTSTART;TZID=Europe/Berlin:20260514T091500
DURATION:PT30M
LOCATION:St. Michael
END:VEVENT
END:VCALENDAR
