BEGIN:VCALENDAR
VERSION:2.0
PRODID:-//Sabre//Sabre VObject 4.5.8//EN
CALSCALE:GREGORIAN
BEGIN:VEVENT
UID:sabre-vobject-686f6f58-dac5-40d4-ba27-9c4521e81c3d
DTSTAMP:20260424T145034Z
SUMMARY:Heilige Messe in Unterreuten zum Kapellenfest zu d. hl. 14 Nothelfe
 rn
DESCRIPTION:https://pfarreien-bistum-augsburg.df-preview.de/heilige-messe-i
 n-unterreuten-zum-kapellenfest-zu-d-hl-14-nothelfern_id1752875
DTSTART;TZID=Europe/Berlin:20260425T103000
DURATION:PT30M
LOCATION:St. Moritz
END:VEVENT
END:VCALENDAR
