BEGIN:VCALENDAR
VERSION:2.0
PRODID:-//Sabre//Sabre VObject 4.5.8//EN
CALSCALE:GREGORIAN
BEGIN:VEVENT
UID:sabre-vobject-1ba3080f-1704-457c-b632-6d9ba0ea97ed
DTSTAMP:20260423T132905Z
SUMMARY:Rosenkranz
DESCRIPTION:https://pfarreien-bistum-augsburg.df-preview.de/rosenkranz_id17
 52855
DTSTART;TZID=Europe/Berlin:20260524T095000
DURATION:PT30M
LOCATION:St. Josef
END:VEVENT
END:VCALENDAR
