BEGIN:VCALENDAR
VERSION:2.0
PRODID:-//Sabre//Sabre VObject 4.5.8//EN
CALSCALE:GREGORIAN
BEGIN:VEVENT
UID:sabre-vobject-f16a3e37-3738-4e2a-8d8f-61582fd9e07b
DTSTAMP:20260424T081058Z
SUMMARY:Rosenkranz und Beichtgelegenheit
DESCRIPTION:https://pfarreien-bistum-augsburg.df-preview.de/rosenkranz-und-
 beichtgelegenheit_id1752853
DTSTART;TZID=Europe/Berlin:20260523T175000
DURATION:PT30M
LOCATION:St. Josef
END:VEVENT
END:VCALENDAR
