BEGIN:VCALENDAR
VERSION:2.0
PRODID:-//Sabre//Sabre VObject 4.5.8//EN
CALSCALE:GREGORIAN
BEGIN:VEVENT
UID:sabre-vobject-24d90338-59d7-4a38-819f-e0567a520081
DTSTAMP:20260422T153433Z
SUMMARY:Eucharistiefeier
DESCRIPTION:https://pfarreien-bistum-augsburg.df-preview.de/eucharistiefeie
 r_id1752793
DTSTART;TZID=Europe/Berlin:20260430T183000
DURATION:PT30M
LOCATION:St. Ulrich
END:VEVENT
END:VCALENDAR
