BEGIN:VCALENDAR
VERSION:2.0
PRODID:-//Sabre//Sabre VObject 4.5.8//EN
CALSCALE:GREGORIAN
BEGIN:VEVENT
UID:sabre-vobject-ffae6c56-7819-4a3b-9cb6-e5a04cc91eaf
DTSTAMP:20260425T172043Z
SUMMARY:Dankandacht zur Erstkommunion
DESCRIPTION:https://pfarreien-bistum-augsburg.df-preview.de/dankandacht-zur
 -erstkommunion_id1752754
DTSTART;TZID=Europe/Berlin:20260426T170000
DURATION:PT30M
LOCATION:St. Josef
END:VEVENT
END:VCALENDAR
