BEGIN:VCALENDAR
VERSION:2.0
PRODID:-//Sabre//Sabre VObject 4.5.8//EN
CALSCALE:GREGORIAN
BEGIN:VEVENT
UID:sabre-vobject-19c5e7b2-2853-4f24-9ab6-f736c252ad96
DTSTAMP:20260424T211341Z
SUMMARY:Rosenkranz und Beichtgelegenheit
DESCRIPTION:https://pfarreien-bistum-augsburg.df-preview.de/rosenkranz-und-
 beichtgelegenheit_id1752723
DTSTART;TZID=Europe/Berlin:20260502T184500
DURATION:PT30M
LOCATION:St. Ulrich
END:VEVENT
END:VCALENDAR
