BEGIN:VCALENDAR
VERSION:2.0
PRODID:-//Sabre//Sabre VObject 4.5.8//EN
CALSCALE:GREGORIAN
BEGIN:VEVENT
UID:sabre-vobject-99b7d625-61b9-42ae-b94e-41240a6fc916
DTSTAMP:20260425T121927Z
SUMMARY:Heilige Messe im Caritasheim
DESCRIPTION:https://pfarreien-bistum-augsburg.df-preview.de/heilige-messe-i
 m-caritasheim_id1752715
DTSTART;TZID=Europe/Berlin:20260507T160000
DURATION:PT30M
LOCATION:St. Ulrich
END:VEVENT
END:VCALENDAR
