BEGIN:VCALENDAR
VERSION:2.0
PRODID:-//Sabre//Sabre VObject 4.5.8//EN
CALSCALE:GREGORIAN
BEGIN:VEVENT
UID:sabre-vobject-de15a424-3e0d-415c-a372-06a60909e3f4
DTSTAMP:20260424T204544Z
SUMMARY:Pfarrgemeinderatssitzung i. Pfarrheim
DESCRIPTION:https://pfarreien-bistum-augsburg.df-preview.de/pfarrgemeindera
 tssitzung-i-pfarrheim_id1752702
DTSTART;TZID=Europe/Berlin:20260521T193000
DURATION:PT30M
LOCATION:St. Margareta
END:VEVENT
END:VCALENDAR
