BEGIN:VCALENDAR
VERSION:2.0
PRODID:-//Sabre//Sabre VObject 4.5.8//EN
CALSCALE:GREGORIAN
BEGIN:VEVENT
UID:sabre-vobject-4a7feba9-d179-428c-8210-a5508804d429
DTSTAMP:20260425T174652Z
SUMMARY:Messe\, anschl. Anbetung bis 12 Uhr
DESCRIPTION:https://pfarreien-bistum-augsburg.df-preview.de/messe-anschl-an
 betung-bis-12-uhr_id1752683
DTSTART;TZID=Europe/Berlin:20260428T100000
DURATION:PT30M
LOCATION:St. Josef
END:VEVENT
END:VCALENDAR
