BEGIN:VCALENDAR
VERSION:2.0
PRODID:-//Sabre//Sabre VObject 4.5.8//EN
CALSCALE:GREGORIAN
BEGIN:VEVENT
UID:sabre-vobject-9c2f6fb6-2844-4b8e-af42-42b9a3afb223
DTSTAMP:20260424T213321Z
SUMMARY:Ewige Anbetung\, 21.45 Uhr Kirchliches Nachtgebet - Einsetzung um 2
 2 Uhr
DESCRIPTION:https://pfarreien-bistum-augsburg.df-preview.de/ewige-anbetung-
 21-45-uhr-kirchliches-nachtgebet-einsetzung-um-22-uhr_id1752678
DTSTART;TZID=Europe/Berlin:20260428T100000
DURATION:PT30M
LOCATION:St. Josef der Arbeiter
END:VEVENT
END:VCALENDAR
