BEGIN:VCALENDAR
VERSION:2.0
PRODID:-//Sabre//Sabre VObject 4.5.8//EN
CALSCALE:GREGORIAN
BEGIN:VEVENT
UID:sabre-vobject-8a05dbbc-e449-4331-aed4-431048730b8c
DTSTAMP:20260422T111209Z
SUMMARY:Hl. Messe nach dem Messbuch von 1962
DESCRIPTION:https://pfarreien-bistum-augsburg.df-preview.de/hl-messe-nach-d
 em-messbuch-von-1962_id1752652
DTSTART;TZID=Europe/Berlin:20260531T100000
DURATION:PT30M
LOCATION:Mariä Himmelfahrt
END:VEVENT
END:VCALENDAR
