BEGIN:VCALENDAR
VERSION:2.0
PRODID:-//Sabre//Sabre VObject 4.5.8//EN
CALSCALE:GREGORIAN
BEGIN:VEVENT
UID:sabre-vobject-4866f806-f661-4157-a2fb-77e5b7f11873
DTSTAMP:20260423T001731Z
SUMMARY:Taufe: Leopold Benno Alexander Sing\, Lucia Mathilda Maria Sing
DESCRIPTION:https://pfarreien-bistum-augsburg.df-preview.de/taufe-leopold-b
 enno-alexander-sing-lucia-mathilda-maria-sing_id1752647
DTSTART;TZID=Europe/Berlin:20260530T140000
DURATION:PT30M
LOCATION:Mariä Himmelfahrt
END:VEVENT
END:VCALENDAR
