BEGIN:VCALENDAR
VERSION:2.0
PRODID:-//Sabre//Sabre VObject 4.5.8//EN
CALSCALE:GREGORIAN
BEGIN:VEVENT
UID:sabre-vobject-83e709fd-9acd-4f50-b993-2258f3a73261
DTSTAMP:20260424T234727Z
SUMMARY:Maiandacht\, gest. v. FB
DESCRIPTION:https://pfarreien-bistum-augsburg.df-preview.de/maiandacht-gest
 -v-fb_id1752641
DTSTART;TZID=Europe/Berlin:20260517T183000
DURATION:PT30M
LOCATION:St. Margareta
END:VEVENT
END:VCALENDAR
