BEGIN:VCALENDAR
VERSION:2.0
PRODID:-//Sabre//Sabre VObject 4.5.8//EN
CALSCALE:GREGORIAN
BEGIN:VEVENT
UID:sabre-vobject-dc6a76c2-6c3d-43c1-8217-2e8f5a15ad1d
DTSTAMP:20260425T162626Z
SUMMARY:Rosenkranz
DESCRIPTION:https://pfarreien-bistum-augsburg.df-preview.de/rosenkranz_id17
 52639
DTSTART;TZID=Europe/Berlin:20260428T092500
DURATION:PT30M
LOCATION:St. Josef
END:VEVENT
END:VCALENDAR
