BEGIN:VCALENDAR
VERSION:2.0
PRODID:-//Sabre//Sabre VObject 4.5.8//EN
CALSCALE:GREGORIAN
BEGIN:VEVENT
UID:sabre-vobject-22f3702c-a228-4e74-9bb6-f1a080e1b43f
DTSTAMP:20260423T221635Z
SUMMARY:Messe gest. vom Kirchenchor
DESCRIPTION:https://pfarreien-bistum-augsburg.df-preview.de/messe-gest-vom-
 kirchenchor_id1752638
DTSTART;TZID=Europe/Berlin:20260524T103000
DURATION:PT30M
LOCATION:St. Nikolaus
END:VEVENT
END:VCALENDAR
