BEGIN:VCALENDAR
VERSION:2.0
PRODID:-//Sabre//Sabre VObject 4.5.8//EN
CALSCALE:GREGORIAN
BEGIN:VEVENT
UID:sabre-vobject-04ace83b-d60a-42db-a0b8-ee7b0948486c
DTSTAMP:20260424T010846Z
SUMMARY:Messe
DESCRIPTION:https://pfarreien-bistum-augsburg.df-preview.de/messe_id1752634
DTSTART;TZID=Europe/Berlin:20260520T100000
DURATION:PT30M
LOCATION:St. Nikolaus
END:VEVENT
END:VCALENDAR
