BEGIN:VCALENDAR
VERSION:2.0
PRODID:-//Sabre//Sabre VObject 4.5.8//EN
CALSCALE:GREGORIAN
BEGIN:VEVENT
UID:sabre-vobject-a24d3540-1685-4136-973e-b47d4b1c0d61
DTSTAMP:20260424T154712Z
SUMMARY:Bittmesse gestaltet vom Kirchenchor St. Nikolaus
DESCRIPTION:https://pfarreien-bistum-augsburg.df-preview.de/bittmesse-gesta
 ltet-vom-kirchenchor-st-nikolaus_id1752626
DTSTART;TZID=Europe/Berlin:20260513T191500
DURATION:PT30M
LOCATION:St. Nikolaus
END:VEVENT
END:VCALENDAR
