BEGIN:VCALENDAR
VERSION:2.0
PRODID:-//Sabre//Sabre VObject 4.5.8//EN
CALSCALE:GREGORIAN
BEGIN:VEVENT
UID:sabre-vobject-62849ac4-1a87-4fc6-8c98-4a95058c54f1
DTSTAMP:20260424T213559Z
SUMMARY:Bittgang von Immenstadt nach Bühl
DESCRIPTION:https://pfarreien-bistum-augsburg.df-preview.de/bittgang-von-im
 menstadt-nach-buehl_id1752624
DTSTART;TZID=Europe/Berlin:20260511T183000
DURATION:PT30M
LOCATION:St. Nikolaus
END:VEVENT
END:VCALENDAR
