BEGIN:VCALENDAR
VERSION:2.0
PRODID:-//Sabre//Sabre VObject 4.5.8//EN
CALSCALE:GREGORIAN
BEGIN:VEVENT
UID:sabre-vobject-279533bd-8e3c-4e34-a314-39dae637d1cb
DTSTAMP:20260425T183424Z
SUMMARY:Aussetzung d. Allerheiligsten\, anschl. stille Betstunden
DESCRIPTION:https://pfarreien-bistum-augsburg.df-preview.de/aussetzung-d-al
 lerheiligsten-anschl-stille-betstunden_id1752584
DTSTART;TZID=Europe/Berlin:20260506T160000
DURATION:PT30M
LOCATION:St. Margareta
END:VEVENT
END:VCALENDAR
