BEGIN:VCALENDAR
VERSION:2.0
PRODID:-//Sabre//Sabre VObject 4.5.8//EN
CALSCALE:GREGORIAN
BEGIN:VEVENT
UID:sabre-vobject-83840f9c-57a2-4d63-8a38-7007e37283b9
DTSTAMP:20260425T193538Z
SUMMARY:Maiandacht\, gest. v. Jungbläsern u. Blockflötenkindern d. Musikv
 ereins Irsingen
DESCRIPTION:https://pfarreien-bistum-augsburg.df-preview.de/maiandacht-gest
 -v-jungblaesern-u-blockfloetenkindern-d-musikvereins-irsingen_id1752583
DTSTART;TZID=Europe/Berlin:20260503T183000
DURATION:PT30M
LOCATION:St. Margareta
END:VEVENT
END:VCALENDAR
