BEGIN:VCALENDAR
VERSION:2.0
PRODID:-//Sabre//Sabre VObject 4.5.8//EN
CALSCALE:GREGORIAN
BEGIN:VEVENT
UID:sabre-vobject-30b2cc5b-dde6-4dc2-9dbe-82c8ad136c70
DTSTAMP:20260424T065731Z
SUMMARY:Bittgang\, Treffpunkt: Feldkreuz an der Lechfelder Straße
DESCRIPTION:https://pfarreien-bistum-augsburg.df-preview.de/bittgang-treffp
 unkt-feldkreuz-an-der-lechfelder-strasse_id1752551
DTSTART;TZID=Europe/Berlin:20260514T101000
DURATION:PT30M
LOCATION:St. Mauritius
END:VEVENT
END:VCALENDAR
