BEGIN:VCALENDAR
VERSION:2.0
PRODID:-//Sabre//Sabre VObject 4.5.8//EN
CALSCALE:GREGORIAN
BEGIN:VEVENT
UID:sabre-vobject-5517b300-72d8-4759-9ecb-fc4cb4af4e7a
DTSTAMP:20260424T041147Z
SUMMARY:Hl. Messe in Klimmach
DESCRIPTION:https://pfarreien-bistum-augsburg.df-preview.de/hl-messe-in-kli
 mmach_id1752548
DTSTART;TZID=Europe/Berlin:20260512T190000
DURATION:PT30M
LOCATION:St. Mauritius
END:VEVENT
END:VCALENDAR
