BEGIN:VCALENDAR
VERSION:2.0
PRODID:-//Sabre//Sabre VObject 4.5.8//EN
CALSCALE:GREGORIAN
BEGIN:VEVENT
UID:sabre-vobject-a40c5fcf-c8ac-4cc5-b4ac-36183c7b9767
DTSTAMP:20260423T131419Z
SUMMARY:Maiandacht mit dem Singkreis Obermeitingen
DESCRIPTION:https://pfarreien-bistum-augsburg.df-preview.de/maiandacht-mit-
 dem-singkreis-obermeitingen_id1752545
DTSTART;TZID=Europe/Berlin:20260510T190000
DURATION:PT30M
LOCATION:St. Mauritius
END:VEVENT
END:VCALENDAR
