BEGIN:VCALENDAR
VERSION:2.0
PRODID:-//Sabre//Sabre VObject 4.5.8//EN
CALSCALE:GREGORIAN
BEGIN:VEVENT
UID:sabre-vobject-aab47297-2bd1-49e8-a4af-e6d7c7af649d
DTSTAMP:20260422T145254Z
SUMMARY:Flurumgang
DESCRIPTION:https://pfarreien-bistum-augsburg.df-preview.de/flurumgang_id17
 52531
DTSTART;TZID=Europe/Berlin:20260522T183000
DURATION:PT30M
LOCATION:St. Michael\, Augsburger Str.\, 86568 Hollenbach
END:VEVENT
END:VCALENDAR
