BEGIN:VCALENDAR
VERSION:2.0
PRODID:-//Sabre//Sabre VObject 4.5.8//EN
CALSCALE:GREGORIAN
BEGIN:VEVENT
UID:sabre-vobject-5ccb9c21-67f6-4918-b736-6d1ebe0bbf11
DTSTAMP:20260424T011803Z
SUMMARY:Maiandacht mit der Illertaler Saitenmusik
DESCRIPTION:https://pfarreien-bistum-augsburg.df-preview.de/maiandacht-mit-
 der-illertaler-saitenmusik_id1752500
DTSTART;TZID=Europe/Berlin:20260524T183000
DURATION:PT30M
LOCATION:St. Stephan
END:VEVENT
END:VCALENDAR
