BEGIN:VCALENDAR
VERSION:2.0
PRODID:-//Sabre//Sabre VObject 4.5.8//EN
CALSCALE:GREGORIAN
BEGIN:VEVENT
UID:sabre-vobject-a680792c-aad1-437d-b717-31d758d3f407
DTSTAMP:20260424T214230Z
SUMMARY:gemeinsame Sitzung der Pfarrgemeinderäte von St. Ulrich u. St. Luz
 ia
DESCRIPTION:https://pfarreien-bistum-augsburg.df-preview.de/gemeinsame-sitz
 ung-der-pfarrgemeinderaete-von-st-ulrich-u-st-luzia_id1752496
DTSTART;TZID=Europe/Berlin:20260427T190000
DURATION:PT30M
LOCATION:St. Ulrich
END:VEVENT
END:VCALENDAR
