BEGIN:VCALENDAR
VERSION:2.0
PRODID:-//Sabre//Sabre VObject 4.5.8//EN
CALSCALE:GREGORIAN
BEGIN:VEVENT
UID:sabre-vobject-c7e13dc4-2d38-46b3-9a67-aeddf20e06f5
DTSTAMP:20260423T015339Z
SUMMARY:Hl. Messe
DESCRIPTION:https://pfarreien-bistum-augsburg.df-preview.de/hl-messe_id1752
 429
DTSTART;TZID=Europe/Berlin:20260428T180000
DURATION:PT30M
LOCATION:St. Stephan\, Stefanstr. 6\, 89358 Kammeltal
END:VEVENT
END:VCALENDAR
