BEGIN:VCALENDAR
VERSION:2.0
PRODID:-//Sabre//Sabre VObject 4.5.8//EN
CALSCALE:GREGORIAN
BEGIN:VEVENT
UID:sabre-vobject-da6c67f1-c09c-4739-a973-dfd638eca776
DTSTAMP:20260422T121917Z
SUMMARY:Maiandacht vom Kath. Frauenbund Aichach
DESCRIPTION:https://pfarreien-bistum-augsburg.df-preview.de/maiandacht-vom-
 kath-frauenbund-aichach_id1752237
DTSTART;TZID=Europe/Berlin:20260521T180000
DURATION:PT30M
LOCATION:Maria Verkündigung\, Ainertshofen 1\, 86570 Ainertshofen
END:VEVENT
END:VCALENDAR
