BEGIN:VCALENDAR
VERSION:2.0
PRODID:-//Sabre//Sabre VObject 4.5.8//EN
CALSCALE:GREGORIAN
BEGIN:VEVENT
UID:sabre-vobject-30dce8c5-0a8b-450c-a46f-824175f5c5ee
DTSTAMP:20260422T121921Z
SUMMARY:Flurumgang in Ainertshofen (Ainertshofen - Ried - Ainertshofen) ca.
  19:30 Uhr hl. Messe um günstige Witterung\, eine gute Ernte und um Segen
  für die Fluren
DESCRIPTION:https://pfarreien-bistum-augsburg.df-preview.de/flurumgang-in-a
 inertshofen-ainertshofen-ried-ainertshofen-ca-19-30-uhr-hl-messe-um-guenst
 ige-witterung-eine-gute-ernte-und-um-segen-fuer-die-fluren_id1752236
DTSTART;TZID=Europe/Berlin:20260519T183000
DURATION:PT30M
LOCATION:Maria Verkündigung\, Ainertshofen 1\, 86570 Ainertshofen
END:VEVENT
END:VCALENDAR
