BEGIN:VCALENDAR
VERSION:2.0
PRODID:-//Sabre//Sabre VObject 4.5.8//EN
CALSCALE:GREGORIAN
BEGIN:VEVENT
UID:sabre-vobject-cff2bb9a-c0d6-4742-b0a1-4746066113a6
DTSTAMP:20260425T233812Z
SUMMARY:Heilige Messe anlässlich der Wirtewallfahrt
DESCRIPTION:https://pfarreien-bistum-augsburg.df-preview.de/heilige-messe-a
 nlaesslich-der-wirtewallfahrt_id1752225
DTSTART;TZID=Europe/Berlin:20260504T110000
DURATION:PT30M
LOCATION:St. Moritz
END:VEVENT
END:VCALENDAR
