BEGIN:VCALENDAR
VERSION:2.0
PRODID:-//Sabre//Sabre VObject 4.5.8//EN
CALSCALE:GREGORIAN
BEGIN:VEVENT
UID:sabre-vobject-a0eb5428-2257-478b-bb8b-a4cc11da1753
DTSTAMP:20260424T184443Z
SUMMARY:Festlicher Gottesdienst mit Spendung der Erstkommunion (Musik. Gest
 .: For You)
DESCRIPTION:https://pfarreien-bistum-augsburg.df-preview.de/festlicher-gott
 esdienst-mit-spendung-der-erstkommunion-musik-gest-for-you_id1752213
DTSTART;TZID=Europe/Berlin:20260426T090000
DURATION:PT30M
LOCATION:St. Moritz
END:VEVENT
END:VCALENDAR
