BEGIN:VCALENDAR
VERSION:2.0
PRODID:-//Sabre//Sabre VObject 4.5.8//EN
CALSCALE:GREGORIAN
BEGIN:VEVENT
UID:sabre-vobject-7460e68c-afdd-468e-8954-ef84934a347b
DTSTAMP:20260425T170847Z
SUMMARY:Heilige Messe Mini´s gestalten einen Kinder- und Familiengottesdie
 nst Kollekte für die Ministranten
DESCRIPTION:https://pfarreien-bistum-augsburg.df-preview.de/heilige-messe-m
 ini-s-gestalten-einen-kinder-und-familiengottesdienst-kollekte-fuer-die-mi
 nistranten_id1752205
DTSTART;TZID=Europe/Berlin:20260517T100000
DURATION:PT30M
LOCATION:St. Martin
END:VEVENT
END:VCALENDAR
