BEGIN:VCALENDAR
VERSION:2.0
PRODID:-//Sabre//Sabre VObject 4.5.8//EN
CALSCALE:GREGORIAN
BEGIN:VEVENT
UID:sabre-vobject-28816419-4016-46cb-8647-e65d360214d9
DTSTAMP:20260425T023814Z
SUMMARY:Stille Anbetung vor dem Allerheiligsten in der Taufkapelle bis 18 U
 hr
DESCRIPTION:https://pfarreien-bistum-augsburg.df-preview.de/stille-anbetung
 -vor-dem-allerheiligsten-in-der-taufkapelle-bis-18-uhr_id1752148
DTSTART;TZID=Europe/Berlin:20260520T090000
DURATION:PT30M
LOCATION:St. Peter und Paul
END:VEVENT
END:VCALENDAR
