BEGIN:VCALENDAR
VERSION:2.0
PRODID:-//Sabre//Sabre VObject 4.5.8//EN
CALSCALE:GREGORIAN
BEGIN:VEVENT
UID:sabre-vobject-af01e6e6-50e0-4e51-8b0c-6d1dea1284d6
DTSTAMP:20260425T181250Z
SUMMARY:Stille Anbetung vor dem Allerheiligsten in der Taufkapelle bis 18 U
 hr
DESCRIPTION:https://pfarreien-bistum-augsburg.df-preview.de/stille-anbetung
 -vor-dem-allerheiligsten-in-der-taufkapelle-bis-18-uhr_id1752142
DTSTART;TZID=Europe/Berlin:20260518T090000
DURATION:PT30M
LOCATION:St. Peter und Paul
END:VEVENT
END:VCALENDAR
