BEGIN:VCALENDAR
VERSION:2.0
PRODID:-//Sabre//Sabre VObject 4.5.8//EN
CALSCALE:GREGORIAN
BEGIN:VEVENT
UID:sabre-vobject-d2ee4fbe-a166-41e5-85c7-50f8cd40ecff
DTSTAMP:20260424T115135Z
SUMMARY:Fahrradsegnung in der Anna und Joachimkapelle in Unterstein mit ans
 chl. gemütlichen Beisammensein\, mit Bewirtung u. den Untersteiner-Musika
 nten
DESCRIPTION:https://pfarreien-bistum-augsburg.df-preview.de/fahrradsegnung-
 in-der-anna-und-joachimkapelle-in-unterstein-mit-anschl-gemuetlichen-beisa
 mmensein-mit-bewirtung-u-den-untersteiner-musikanten_id1752122
DTSTART;TZID=Europe/Berlin:20260514T143000
DURATION:PT30M
LOCATION:St. Gallus\, Kirchplatz 2\, 88175 Scheidegg
END:VEVENT
END:VCALENDAR
