BEGIN:VCALENDAR
VERSION:2.0
PRODID:-//Sabre//Sabre VObject 4.5.8//EN
CALSCALE:GREGORIAN
BEGIN:VEVENT
UID:sabre-vobject-f4f80186-b751-44fd-9184-80540b79ef15
DTSTAMP:20260424T160010Z
SUMMARY:3.Bittgang nach Unterstein\, Treffpunkt Pfarrkirche
DESCRIPTION:https://pfarreien-bistum-augsburg.df-preview.de/3-bittgang-nach
 -unterstein-treffpunkt-pfarrkirche_id1752119
DTSTART;TZID=Europe/Berlin:20260513T180000
DURATION:PT30M
LOCATION:St. Gallus\, Kirchplatz 2\, 88175 Scheidegg
END:VEVENT
END:VCALENDAR
