BEGIN:VCALENDAR
VERSION:2.0
PRODID:-//Sabre//Sabre VObject 4.5.8//EN
CALSCALE:GREGORIAN
BEGIN:VEVENT
UID:sabre-vobject-bef8b6e2-ed89-4ac5-8592-d077b5965572
DTSTAMP:20260425T120552Z
SUMMARY:2. Maiandacht mit eucharistischem Segen
DESCRIPTION:https://pfarreien-bistum-augsburg.df-preview.de/2-maiandacht-mi
 t-eucharistischem-segen_id1752108
DTSTART;TZID=Europe/Berlin:20260510T183000
DURATION:PT30M
LOCATION:St. Gallus\, Kirchplatz 2\, 88175 Scheidegg
END:VEVENT
END:VCALENDAR
