BEGIN:VCALENDAR
VERSION:2.0
PRODID:-//Sabre//Sabre VObject 4.5.8//EN
CALSCALE:GREGORIAN
BEGIN:VEVENT
UID:sabre-vobject-c554f8a0-18ba-4e79-8bed-aa73275913bd
DTSTAMP:20260425T144457Z
SUMMARY:Familiengottesdienst zum Muttertag gestaltet von Mugru
DESCRIPTION:https://pfarreien-bistum-augsburg.df-preview.de/familiengottesd
 ienst-zum-muttertag-gestaltet-von-mugru_id1752092
DTSTART;TZID=Europe/Berlin:20260510T100000
DURATION:PT30M
LOCATION:St. Gallus\, Kirchplatz 2\, 88175 Scheidegg
END:VEVENT
END:VCALENDAR
