BEGIN:VCALENDAR
VERSION:2.0
PRODID:-//Sabre//Sabre VObject 4.5.8//EN
CALSCALE:GREGORIAN
BEGIN:VEVENT
UID:sabre-vobject-9624a0a5-3c6b-41e9-bd12-b94afe4ce71d
DTSTAMP:20260425T220453Z
SUMMARY:1. Maiandacht mit Kirchenchor
DESCRIPTION:https://pfarreien-bistum-augsburg.df-preview.de/1-maiandacht-mi
 t-kirchenchor_id1752091
DTSTART;TZID=Europe/Berlin:20260503T183000
DURATION:PT30M
LOCATION:St. Gallus\, Kirchplatz 2\, 88175 Scheidegg
END:VEVENT
END:VCALENDAR
