BEGIN:VCALENDAR
VERSION:2.0
PRODID:-//Sabre//Sabre VObject 4.5.8//EN
CALSCALE:GREGORIAN
BEGIN:VEVENT
UID:sabre-vobject-e17a92c8-e11e-4605-9d48-72369ef95cf6
DTSTAMP:20260426T034953Z
SUMMARY:Kinderkirche im Meditationsraum
DESCRIPTION:https://pfarreien-bistum-augsburg.df-preview.de/kinderkirche-im
 -meditationsraum_id1752081
DTSTART;TZID=Europe/Berlin:20260503T100000
DURATION:PT30M
LOCATION:St. Gallus\, Kirchplatz 2\, 88175 Scheidegg
END:VEVENT
END:VCALENDAR
