BEGIN:VCALENDAR
VERSION:2.0
PRODID:-//Sabre//Sabre VObject 4.5.8//EN
CALSCALE:GREGORIAN
BEGIN:VEVENT
UID:sabre-vobject-3f32b8f9-ca15-400f-862a-dd1b4bc346fd
DTSTAMP:20260424T124301Z
SUMMARY:Rosenkranz zu Ehren der Mutter Gottes
DESCRIPTION:https://pfarreien-bistum-augsburg.df-preview.de/rosenkranz-zu-e
 hren-der-mutter-gottes_id1752028
DTSTART;TZID=Europe/Berlin:20260508T083000
DURATION:PT30M
LOCATION:St. Nikolaus
END:VEVENT
END:VCALENDAR
