BEGIN:VCALENDAR
VERSION:2.0
PRODID:-//Sabre//Sabre VObject 4.5.8//EN
CALSCALE:GREGORIAN
BEGIN:VEVENT
UID:sabre-vobject-611dd7c4-1363-43e8-9666-7820c982b4ea
DTSTAMP:20260424T203638Z
SUMMARY:Maiandacht gestaltet vom Liturgiekreis
DESCRIPTION:https://pfarreien-bistum-augsburg.df-preview.de/maiandacht-gest
 altet-vom-liturgiekreis_id1751969
DTSTART;TZID=Europe/Berlin:20260521T174500
DURATION:PT30M
LOCATION:St. Peter und Paul
END:VEVENT
END:VCALENDAR
