BEGIN:VCALENDAR
VERSION:2.0
PRODID:-//Sabre//Sabre VObject 4.5.8//EN
CALSCALE:GREGORIAN
BEGIN:VEVENT
UID:sabre-vobject-e72603e5-468b-46c1-b4ae-555e987c9fb3
DTSTAMP:20260424T225753Z
SUMMARY:Beichtgesprächs-Gelegenheit im Pfarramt
DESCRIPTION:https://pfarreien-bistum-augsburg.df-preview.de/beichtgespraech
 s-gelegenheit-im-pfarramt_id1751968
DTSTART;TZID=Europe/Berlin:20260521T170000
DURATION:PT30M
LOCATION:St. Peter und Paul
END:VEVENT
END:VCALENDAR
