BEGIN:VCALENDAR
VERSION:2.0
PRODID:-//Sabre//Sabre VObject 4.5.8//EN
CALSCALE:GREGORIAN
BEGIN:VEVENT
UID:sabre-vobject-c1767a94-7643-45f0-895a-0f8e743c4853
DTSTAMP:20260424T185420Z
SUMMARY:Pfarrgottesdienst / Christi Himmelfahrt
DESCRIPTION:https://pfarreien-bistum-augsburg.df-preview.de/pfarrgottesdien
 st-christi-himmelfahrt_id1751952
DTSTART;TZID=Europe/Berlin:20260514T083000
DURATION:PT30M
LOCATION:St. Martin
END:VEVENT
END:VCALENDAR
